Workbook
Name \A: #REF!
Name \A: #REF!
Name \A: #REF!
Name \A: #REF!
Name \A: #REF!
Name \A: #REF!
Name \A: #REF!
Name \A: #REF!
Name \A: #REF!
Name \A: #REF!
Name \A: #REF!
Name \A: #REF!
Name \B: #REF!
Name \B: #REF!
Name \B: #REF!
Name \B: #REF!
Name \B: #REF!
Name \B: #REF!
Name \B: #REF!
Name \B: #REF!
Name \B: #REF!
Name \B: #REF!
Name \C: #REF!
Name \C: #REF!
Name \C: #REF!
Name \C: #REF!
Name \C: #REF!
Name \C: #REF!
Name \C: #REF!
Name \C: #REF!
Name \C: #REF!
Name \C: #REF!
Name \D: #REF!
Name \D: #REF!
Name \D: #REF!
Name \D: #REF!
Name \D: #REF!
Name \D: #REF!
Name \E: #REF!
Name \E: #REF!
Name \E: #REF!
Name \E: #REF!
Name \E: #REF!
Name \E: #REF!
Name \F: #REF!
Name \F: #REF!
Name \F: #REF!
Name \F: #REF!
Name \F: #REF!
Name \F: #REF!
Name \G: #REF!
Name \G: #REF!
Name \G: #REF!
Name \G: #REF!
Name \G: #REF!
Name \G: #REF!
Name \H: #REF!
Name \H: #REF!
Name \H: #REF!
Name \H: #REF!

Sheet Turinys
B3: Išvados „DĖL EKONOMINĖS RAIDOS SCENARIJAUS“ lentelės ir paveikslai
B5: 2026 m. rugsėjo 21 d. Nr. BPE–6
B7: IŠVADA
B9: ='1 pav.'!B3 -> 1 pav. 2026 m. kovo mėn. FM realiojo BVP projekcijos 2026–2027 m. yra artimos kitų institucijų vidurkiui
B10: =+'2 pav.'!B3 -> 2 pav. FM ir NFI numato, kad vidutiniu laikotarpiu naftos kaina bus didesnė, nei tikėtasi kovo mėn.
B11: =+'3 pav.'!B3 -> 3 pav. Atsinaujinę kariniai veiksmai 2026 m. liepą vėl reikšmingai apribojo laivybą per Hormūzo sąsiaurį
B12: =+'4 pav.'!B3 -> 4 pav. 2026 m. rugpjūčio mėn. Vokietijos pramonės sektoriuje stebima sparti plėtra
B13: =+'5 pav.'!B3 -> 5 pav. NFI projektuoja, kad 2026 m. realusis BVP augs tokiu pačiu tempu, kaip ir 2025 m., o 2027 m. augimas sulėtės iki 2,4 proc.
B14: ='Intarpo 1 pav.'!B3 -> Intarpo 1 pav. 2026 m. balandžio mėn. fiksuotas mažmeninės prekybos šuolis, kurį lėmė prekyba ne maisto prekėmis
B15: ='Intarpo 2 pav.'!B3 -> Intarpo 2 pav. 2026 m. balandžio-liepos mėn. reikšmingai išaugo gyventojų vienadieniai indėliai
B16: ='Intarpo 3 pav.'!B3 -> Intarpo 3 pav. Lyginant su daugiamečiu vidurkiu II ketv. labiausiai kainos Lietuvoje išaugo transporto, būsto ir komunalinių paslaugų bei alkoholio kategorijose
B17: ='Intarpo 4 pav.'!B3 -> Intarpo 4 pav. Nuo 2025 m. būsto sandorių skaičius auga lėtesniu tempu
B18: =+'6 pav.'!B3 -> 6 pav. Po susitraukimo I ketv., II ketv. prekių eksportas atsigavo – jo vertę (to meto kainomis) labiausiai didino mineralinių produktų eksportas ir reeksportas
B19: =+'7 pav.'!B3 -> 7 pav. Nuo 2026 m. gegužės mėn. energijos komponentė lemia beveik pusę kainų lygio augimo tempo
B20: =+'1 lentelė'!B3 -> 1 lentelė. 2026 m. rugsėjo mėn. ERS lyginant su 2025 m. rugsėjo mėn. ERS, buvo peržiūrėti makroekonominiai rodikliai, kurie svarbūs prognozuojant pajamas
B22: PRIEDAI
B24: =+'1 Priedas 1 lentelė.'!B3 -> 1 Priedas 1 lentelė. NFI makroekonominės prognozės 2026–2029 m.
B25: =+'1 Priedas 2 lentelė.'!B3 -> 1 Priedas 2 lentelė. NFI makroekonominių prognozių pagrindinės prielaidos
B26: ='2 Priedas 1 lentelė. '!B3 -> 2 Priedas 1 lentelė. Finansų ministerijos 2026 m. rugsėjo mėn. ekonominės raidos scenarijaus projekcijos
B27: =+'2 Priedas 2 lentelė.'!B3 -> 2 Priedas 2 lentelė. Finansų ministerijos 2026 m. rugsėjo mėn. ekonominės raidos scenarijaus pagrindinės prielaidos
B28: =+'3 priedas.'!B3 -> 3 Priedas. NFI sudarytos ERS tvirtinimo atkarpos
B29: =+'4 Priedas.'!B3 -> 4 Priedas. Kitų institucijų realiojo BVP projekcijos

Sheet 1 pav.
A1: ↖ atgal į turinį
B3: 1 pav. 2026 m. kovo mėn. FM realiojo BVP projekcijos 2026–2027 m. yra artimos kitų institucijų vidurkiui | D3: Projekcija 2026 metams | E3: 2024 | F3: 2025 | R3: 2026
E4: 12 | F4: 1 | G4: 2 | H4: 3 | I4: 4 | J4: 5 | K4: 6 | L4: 7 | M4: 8 | N4: 9 | O4: 10 | P4: 11 | Q4: 12 | R4: 1 | S4: 2 | T4: 3 | U4: 4 | V4: 5 | W4: 6 | X4: 7 | Y4: 8 | Z4: 9
D5: Projekcijų vidurkis | E5: 2.9266667 | F5: 2.7833333 | G5: 2.7833333 | H5: 2.7666667 | I5: 2.7833333 | J5: 2.7 | K5: 2.6 | L5: 2.6 | M5: 2.6 | N5: 3.0666667 | O5: 2.9833333 | P5: 2.9833333 | Q5: 3.1 | R5: 3.15 | S5: 3.15 | T5: 3.15 | U5: 3.1333333 | V5: 3.05 | W5: 2.9333333 | X5: 2.9333333 | Y5: 2.8833333 | Z5: 2.8833333
D6: Projekcijų mažiausios reikšmės | E6: 2.56 | F6: 2.4 | G6: 2.4 | H6: 2.4 | I6: 2.5 | J6: 2.3 | K6: 2.3 | L6: 2.3 | M6: 2.3 | N6: 2.4 | O6: 2.4 | P6: 2.4 | Q6: 2.9 | R6: 2.9 | S6: 2.9 | T6: 2.9 | U6: 2.9 | V6: 2.9 | W6: 2.7 | X6: 2.7 | Y6: 2.7 | Z6: 2.7
D7: Projekcijų antrosios mažiausios reikšmės | E7: 2.8 | F7: 2.5 | G7: 2.5 | H7: 2.5 | I7: 2.8 | J7: 2.5 | K7: 2.4 | L7: 2.4 | M7: 2.4 | N7: 3.1 | O7: 2.9 | P7: 2.9 | Q7: 3 | R7: 3 | S7: 3 | T7: 3 | U7: 3 | V7: 3 | W7: 2.8 | X7: 2.8 | Y7: 2.8 | Z7: 2.8
D8: Projekcijų sklaida | E8: 0.54 | F8: 0.7 | G8: 0.7 | H8: 0.6 | I8: 0.5 | J8: 0.8 | K8: 0.8 | L8: 0.8 | M8: 0.8 | N8: 1 | O8: 0.8 | P8: 0.8 | Q8: 0.3 | R8: 0.6 | S8: 0.6 | T8: 0.6 | U8: 0.6 | V8: 0.3 | W8: 0.5 | X8: 0.5 | Y8: 0.3 | Z8: 0.3
D9: Projekcijų sklaida be min. ir maks. proj. reikšmių | E9: 0.2 | F9: 0.5 | G9: 0.5 | H9: 0.4 | I9: 0.1 | J9: 0.5 | K9: 0.4 | L9: 0.4 | M9: 0.4 | N9: 0.1 | O9: 0.2 | P9: 0.1 | Q9: 0.1 | R9: 0.2 | S9: 0.2 | T9: 0.2 | U9: 0.2 | V9: 0.1 | W9: 0.2 | X9: 0.2 | Y9: 0 | Z9: 0
D10: Finansų ministerijos projekcijos | E10: 2.8 | H10: 2.8 | N10: 3.3 | T10: 3.1 | Z10: 2.9
D11: NFI projekcijos | E11: 3 | H11: 2.9 | N11: 3.4 | T11: 3.3 | Z11: 2.9
D13: Projekcija 2027 metams | E13: 2024 | F13: 2025 | R13: 2026
E14: 12 | F14: 1 | G14: 2 | H14: 3 | I14: 4 | J14: 5 | K14: 6 | L14: 7 | M14: 8 | N14: 9 | O14: 10 | P14: 11 | Q14: 12 | R14: 1 | S14: 2 | T14: 3 | U14: 4 | V14: 5 | W14: 6 | X14: 7 | Y14: 8 | Z14: 9
D15: Projekcijų vidurkis | E15: 2.7833333 | F15: 2.6 | G15: 2.6 | H15: 2.6 | I15: 2.75 | J15: 2.75 | K15: 2.7 | L15: 2.7 | M15: 2.375 | N15: 2.15 | O15: 2.125 | P15: 2.2 | Q15: 2.1666667 | R15: 2.2 | S15: 2.2 | T15: 2.2 | U15: 2.1666667 | V15: 2.1166667 | W15: 2.1166667 | X15: 2.1166667 | Y15: 2.1166667 | Z15: 2.1166667
D16: Projekcijų mažiausios reikšmės | E16: 2.4 | F16: 2.2 | G16: 2.2 | H16: 2.2 | I16: 2.5 | J16: 2.5 | K16: 2.5 | L16: 2.5 | M16: 2 | N16: 2 | O16: 2 | P16: 2.1 | Q16: 2 | R16: 2 | S16: 2 | T16: 2 | U16: 2 | V16: 2 | W16: 2 | X16: 2 | Y16: 2 | Z16: 2
D17: Projekcijų antrosios mažiausios reikšmės | E17: 2.5 | F17: 3 | G17: 3 | H17: 3 | I17: 3 | J17: 3 | K17: 2.9 | L17: 2.9 | M17: 2.1 | N17: 2.1 | O17: 2.1 | P17: 2.3 | Q17: 2.1 | R17: 2.1 | S17: 2.1 | T17: 2.1 | U17: 2.1 | V17: 2.1 | W17: 2.1 | X17: 2.1 | Y17: 2.1 | Z17: 2.1
D18: Projekcijų sklaida | E18: 0.7 | F18: 0.8 | G18: 0.8 | H18: 0.8 | I18: 0.5 | J18: 0.5 | K18: 0.4 | L18: 0.4 | M18: 0.9 | N18: 0.3 | O18: 0.3 | P18: 0.2 | Q18: 0.3 | R18: 0.5 | S18: 0.5 | T18: 0.5 | U18: 0.5 | V18: 0.3 | W18: 0.3 | X18: 0.3 | Y18: 0.3 | Z18: 0.3
D19: Projekcijų sklaida be min. ir maks. proj. reikšmių | M19: 0.4 | N19: 0.1 | O19: 0 | P19: -0.2 | Q19: 0.1 | R19: 0.2 | S19: 0.2 | T19: 0.2 | U19: 0.1 | V19: 0.1 | W19: 0.1 | X19: 0.1 | Y19: 0.1 | Z19: 0.1
D20: Finansų ministerijos projekcijos | E20: 2.9 | H20: 2.9 | N20: 2.3 | T20: 2.3 | Z20: 2.2
D21: NFI projekcijos | E21: 3.2 | H21: 3 | N21: 2.2 | T21: 2.3 | Z21: 2.4
B37: Į projekcijų sklaidą įtrauktos šios institucijos: Europos Komisija, Tarptautinis valiutos fondas, Ekonominio bendradarbiavimo ir plėtros organizacija, Lietuvos bankas, AB „Swedbank“, AB SEB.
B39: Šaltinis – Nepriklausomos fiskalinės institucijos skaičiavimai

Sheet 2 pav.
A1: ↖ atgal į turinį
D2: NFI | H2: FM
B3: 2 pav. FM ir NFI numato, kad vidutiniu laikotarpiu naftos kaina bus didesnė, nei tikėtasi kovo mėn. | D3: Metai | E3: kovo mėn. prielaida | F3: rugsėjo mėn. prielaida | G3: Laikotarpis | H3: Metai | I3: kovo mėn. prielaida | J3: rugsėjo mėn. prielaida
D4: 2026 | E4: 77 | F4: 89.7 | G4: 2015K2 | H4: 2026 | I4: 75.1 | J4: 87.279838 | N4: II
D5: 2027 | E5: 69.6 | F5: 79.8 | G5: 2015K3 | H5: 2027 | I5: 68.3 | J5: 79.827167 | N5: III
D6: 2028 | E6: 68.1 | F6: 74.7 | G6: 2015K4 | H6: 2028 | I6: 68.3 | J6: 79.827167 | N6: IV
D7: 2029 | E7: 68.1 | F7: 72.5 | G7: 2016K1 | H7: 2029 | I7: 68.3 | J7: 79.827167 | M7: 2016 | N7: I
G8: 2016K2 | N8: II
G9: 2016K3 | N9: III
G10: 2018K1 | N10: IV
G11: 2018K2 | M11: 2017 | N11: I
G12: 2018K3 | N12: II
G13: 2018K4 | N13: III
G14: 2019K1 | N14: IV
G15: 2019K2 | M15: 2018 | N15: I
G16: 2019K3 | N16: II
G17: 2019K4 | N17: III
G18: 2020K1 | N18: IV
G19: 2020K2 | M19: 2019 | N19: I
B20: Šaltinis – Nepriklausoma fiskalinė institucija, Finansų ministerija | G20: 2020K3 | N20: II
G21: 2020K4 | N21: III
G22: 2021K1 | N22: IV
G23: 2021K2 | M23: 2020 | N23: I
G24: 2021K3 | N24: II
G25: 2021K4 | N25: III
G26: 2022K1 | N26: IV
G27: 2022K2 | M27: 2021 | N27: I
G28: 2022K3 | N28: II
G29: 2022K4 | N29: III
G30: 2023K1 | N30: IV
G31: 2023K2 | M31: 2022 | N31: I
G32: 2023K3 | N32: II
G33: 2023K4 | N33: III
G34: 2024K1 | N34: IV
G35: 2024K2 | M35: 2023 | N35: I
G36: 2024K3 | N36: II
G37: 2024K4 | N37: III
G38: 2025K1 | N38: IV
G39: 2025K2 | H39: 166.52298 | I39: 259.64819 | M39: 2024 | N39: I
N40: II
...

Sheet 3 pav.
A1: ↖ atgal į turinį
B3: 3 pav. Atsinaujinę kariniai veiksmai 2026 m. liepą vėl reikšmingai apribojo laivybą per Hormūzo sąsiaurį | D3: Data | E3: Metai | F3: Mėnuo | G3: Konteineriniai laivai | H3: Sausakrūviai | I3: Bendros paskirties krovininiai laivai | J3: Ro-ro (roll-on/roll-off) tipo laivai | K3: Tanklaiviai | L3: 7 dienų slankusis vidurkis | M3: Praėjusių metų 7 dienų slankusis vidurkis
D4: 46023 | E4: 2026 | F4: 1 | G4: 20 | H4: 7 | I4: 4 | J4: 4 | K4: 29 | L4: 62 | M4: 71.571429
D5: 46024 | G5: 7 | H5: 16 | I5: 4 | J5: 1 | K5: 23 | L5: 60.428571 | M5: 70.571429
D6: 46025 | G6: 15 | H6: 4 | I6: 4 | J6: 2 | K6: 34 | L6: 59.428571 | M6: 69.857143
D7: 46026 | G7: 8 | H7: 11 | I7: 1 | J7: 3 | K7: 26 | L7: 58.571429 | M7: 70.571429
D8: 46027 | G8: 12 | H8: 12 | I8: 6 | J8: 1 | K8: 30 | L8: 60.142857 | M8: 70.571429
D9: 46028 | G9: 15 | H9: 5 | I9: 7 | J9: 3 | K9: 31 | L9: 59.428571 | M9: 66.571429
D10: 46029 | G10: 12 | H10: 10 | I10: 4 | J10: 3 | K10: 37 | L10: 58.714286 | M10: 65.285714
D11: 46030 | G11: 8 | H11: 12 | I11: 3 | J11: 2 | K11: 37 | L11: 58.428571 | M11: 63.857143
D12: 46031 | G12: 9 | H12: 15 | I12: 6 | J12: 4 | K12: 40 | L12: 61.714286 | M12: 63.714286
D13: 46032 | G13: 10 | H13: 10 | I13: 5 | J13: 4 | K13: 34 | L13: 62.285714 | M13: 63.857143
D14: 46033 | G14: 16 | H14: 11 | I14: 2 | J14: 4 | K14: 31 | L14: 64.428571 | M14: 64.285714
D15: 46034 | G15: 8 | H15: 4 | I15: 2 | J15: 4 | K15: 34 | L15: 63.142857 | M15: 69.285714
D16: 46035 | G16: 12 | H16: 10 | I16: 3 | J16: 2 | K16: 26 | L16: 62 | M16: 70.714286
... D25: 46044 | G25: 5 | H25: 15 | I25: 2 | J25: 4 | K25: 38 | L25: 54.428571 | M25: 70.571429
B26: Šaltinis – https://portwatch.imf.org/ | D26: 46045 | G26: 9 | H26: 7 | I26: 8 | J26: 0 | K26: 24 | L26: 53.714286 | M26: 68.857143
D27: 46046 | G27: 9 | H27: 10 | I27: 4 | J27: 2 | K27: 21 | L27: 54.857143 | M27: 67.714286
D28: 46047 | G28: 9 | H28: 8 | I28: 3 | J28: 3 | K28: 41 | L28: 56.285714 | M28: 69.428571
D29: 46048 | G29: 7 | H29: 7 | I29: 7 | J29: 3 | K29: 19 | L29: 54.142857 | M29: 71.428571
D30: 46049 | G30: 19 | H30: 5 | I30: 5 | J30: 2 | K30: 30 | L30: 54.571429 | M30: 71.571429
D31: 46050 | G31: 8 | H31: 9 | I31: 6 | J31: 3 | K31: 28 | L31: 54.285714 | M31: 70
D32: 46051 | G32: 13 | H32: 11 | I32: 5 | J32: 2 | K32: 41 | L32: 55.428571 | M32: 73.428571
D33: 46052 | G33: 14 | H33: 10 | I33: 4 | J33: 4 | K33: 39 | L33: 58.714286 | M33: 75.285714
D34: 46053 | G34: 9 | H34: 13 | I34: 7 | J34: 1 | K34: 40 | L34: 62.142857 | M34: 76.714286
D35: 46054 | F35: 2 | G35: 10 | H35: 11 | I35: 4 | J35: 5 | K35: 19 | L35: 60 | M35: 72.571429
D36: 46055 | G36: 11 | H36: 6 | I36: 6 | J36: 3 | K36: 41 | L36: 63.428571 | M36: 69.714286
D37: 46056 | G37: 13 | H37: 10 | I37: 10 | J37: 0 | K37: 33 | L37: 64.142857 | M37: 70.428571
D38: 46057 | G38: 9 | H38: 6 | I38: 6 | J38: 2 | K38: 20 | L38: 62.571429 | M38: 73.285714
D39: 46058 | G39: 12 | H39: 14 | I39: 7 | J39: 2 | K39: 36 | L39: 62.428571 | M39: 70.285714
D40: 46059 | G40: 7 | H40: 14 | I40: 2 | J40: 3 | K40: 34 | L40: 60.857143 | M40: 70.571429
D41: 46060 | G41: 6 | H41: 12 | I41: 1 | J41: 1 | K41: 40 | L41: 59.428571 | M41: 67.428571
D42: 46061 | G42: 11 | H42: 8 | I42: 6 | J42: 1 | K42: 32 | L42: 60.714286 | M42: 67.428571
D43: 46062 | G43: 4 | H43: 12 | I43: 1 | J43: 3 | K43: 33 | L43: 58.714286 | M43: 69.714286
D44: 46063 | G44: 11 | H44: 9 | I44: 4 | J44: 2 | K44: 39 | L44: 58.571429 | M44: 68
D45: 46064 | G45: 10 | H45: 14 | I45: 5 | J45: 3 | K45: 49 | L45: 64 | M45: 69.714286
D46: 46065 | G46: 11 | H46: 14 | I46: 8 | J46: 3 | K46: 32 | L46: 63.571429 | M46: 75.142857
D47: 46066 | G47: 20 | H47: 18 | I47: 6 | J47: 5 | K47: 54 | L47: 69.714286 | M47: 82.428571
... D62: 46081 | G62: 5 | H62: 11 | I62: 4 | J62: 1 | K62: 36 | L62: 92.857143 | M62: 70.142857
D63: 46082 | F63: 3 | G63: 3 | H63: 9 | I63: 3 | J63: 0 | K63: 5 | L63: 77.571429 | M63: 63.142857
...

Sheet 4 pav.
A1: ↖ atgal į turinį
B3: 4 pav. 2026 m. rugpjūčio mėn. Vokietijos pramonės sektoriuje stebima sparti plėtra | E3: 2021 | F3: 2022 | I3: 2022 | Q3: 2023 | AC3: 2024 | AO3: 2025 | BA3: 2026
E4: 12 | F4: 1 | G4: 2 | H4: 3 | I4: 5 | J4: 6 | K4: 7 | L4: 8 | M4: 9 | N4: 10 | O4: 11 | P4: 12 | Q4: 1 | R4: 2 | S4: 3 | T4: 4 | U4: 5 | V4: 6 | W4: 7 | X4: 8 | Y4: 9 | Z4: 10 | AA4: 11 | AB4: 12 | AC4: 1 | AD4: 2 | AE4: 3 | AF4: 4 | AG4: 5 | AH4: 6 | AI4: 7 | AJ4: 8 | AK4: 9 | AL4: 10 | AM4: 11 | AN4: 12 | AO4: 1 | AP4: 2 | AQ4: 3 | AR4: 4 | AS4: 5 | AT4: 6 | AU4: 7 | AV4: 8 | AW4: 9 | AX4: 10 | AY4: 11 | AZ4: 12 | BA4: 1 | BB4: 2 | BC4: 3 | BD4: 4 | BE4: 5 | BF4: 6 | BG4: 7 | BH4: 8
D5: Euro zona | E5: 58 | F5: 58.7 | G5: 58.2 | H5: 56.5 | I5: 54.6 | J5: 52.1 | K5: 49.8 | L5: 49.6 | M5: 48.4 | N5: 46.4 | O5: 47.1 | P5: 47.8 | Q5: 48.8 | R5: 48.5 | S5: 47.3 | T5: 45.8 | U5: 44.8 | V5: 43.4 | W5: 42.7 | X5: 43.4 | Y5: 43.4 | Z5: 43.1 | AA5: 44.2 | AB5: 44.4 | AC5: 46.6 | AD5: 46.5 | AE5: 46.1 | AF5: 45.7 | AG5: 47.3 | AH5: 45.8 | AI5: 45.8 | AJ5: 45.8 | AK5: 45 | AL5: 46 | AM5: 45.2 | AN5: 45.1 | AO5: 46.6 | AP5: 47.6 | AQ5: 48.6 | AR5: 49 | AS5: 49.4 | AT5: 49.5 | AU5: 49.8 | AV5: 50.7 | AW5: 49.8 | AX5: 50 | AY5: 49.6 | AZ5: 48.8 | BA5: 49.5 | BB5: 50.8 | BC5: 51.6 | BD5: 52.2 | BE5: 51.6 | BF5: 51.4 | BG5: 51.9 | BH5: 52.7
D6: Vokietija | E6: 57.4 | F6: 59.8 | G6: 58.4 | H6: 56.9 | I6: 54.8 | J6: 52 | K6: 49.3 | L6: 49.1 | M6: 47.8 | N6: 45.1 | O6: 46.2 | P6: 47.1 | Q6: 47.3 | R6: 46.3 | S6: 44.4 | T6: 44.5 | U6: 43.2 | V6: 40.6 | W6: 38.8 | X6: 39.1 | Y6: 39.6 | Z6: 40.8 | AA6: 42.6 | AB6: 43.3 | AC6: 45.5 | AD6: 42.5 | AE6: 41.9 | AF6: 42.5 | AG6: 45.4 | AH6: 43.5 | AI6: 43.2 | AJ6: 42.4 | AK6: 40.6 | AL6: 43 | AM6: 43 | AN6: 42.5 | AO6: 45 | AP6: 46.5 | AQ6: 48.3 | AR6: 48.4 | AS6: 48.3 | AT6: 49 | AU6: 49.1 | AV6: 49.8 | AW6: 49.5 | AX6: 49.6 | AY6: 48.2 | AZ6: 47 | BA6: 49.1 | BB6: 50.9 | BC6: 52.2 | BD6: 51.4 | BE6: 50.1 | BF6: 50.3 | BG6: 52.2 | BH6: 54.3
D7: Jungtinės Amerikos Valstijos | E7: 56.7 | F7: 55.5 | G7: 57.3 | H7: 58.8 | I7: 57 | J7: 52.7 | K7: 52.2 | L7: 51.5 | M7: 52 | N7: 50.4 | O7: 47.7 | P7: 46.2 | Q7: 46.9 | R7: 47.3 | S7: 49.1 | T7: 50.2 | U7: 48.4 | V7: 46.3 | W7: 49 | X7: 47.9 | Y7: 48.9 | Z7: 50 | AA7: 49.4 | AB7: 47.9 | AC7: 50.7 | AD7: 52.2 | AE7: 51.9 | AF7: 50 | AG7: 51.3 | AH7: 51.6 | AI7: 49.6 | AJ7: 47.9 | AK7: 47.3 | AL7: 48.5 | AM7: 49.7 | AN7: 49.4 | AO7: 51.2 | AP7: 52.7 | AQ7: 50.2 | AR7: 50.2 | AS7: 52 | AT7: 52.9 | AU7: 49.8 | AV7: 53 | AW7: 52 | AX7: 52.5 | AY7: 52.2 | AZ7: 51.8 | BA7: 52.4 | BB7: 51.6 | BC7: 52.3 | BD7: 54.5 | BE7: 55.1 | BF7: 53.9 | BG7: 53.9 | BH7: 53.9
D8: Kinija | E8: 50.9 | F8: 49.1 | G8: 50.4 | H8: 48.1 | I8: 49.1 | J8: 51.7 | K8: 50.4 | L8: 49.5 | M8: 48.1 | N8: 49.2 | O8: 49.4 | P8: 49 | Q8: 49.2 | R8: 51.6 | S8: 50 | T8: 49.5 | U8: 50.9 | V8: 50.5 | W8: 49.2 | X8: 51 | Y8: 50.6 | Z8: 49.5 | AA8: 50.7 | AB8: 50.8 | AC8: 50.8 | AD8: 50.9 | AE8: 51.1 | AF8: 51.4 | AG8: 51.7 | AH8: 51.8 | AI8: 49.8 | AJ8: 50.4 | AK8: 49.3 | AL8: 50.3 | AM8: 51.5 | AN8: 50.5 | AO8: 50.1 | AP8: 50.8 | AQ8: 51.2 | AR8: 50.4 | AS8: 48.3 | AT8: 50.4 | AU8: 49.5 | AV8: 50.5 | AW8: 51.2 | AX8: 50.6 | AY8: 49.9 | AZ8: 50.1 | BA8: 50.3 | BB8: 52.1 | BC8: 50.8 | BD8: 52.2 | BE8: 51.8 | BF8: 51.7 | BG8: 50.9 | BH8: 51.5
D9: linija | E9: 50 | F9: 50 | G9: 50 | H9: 50 | I9: 50 | J9: 50 | K9: 50 | L9: 50 | M9: 50 | N9: 50 | O9: 50 | P9: 50 | Q9: 50 | R9: 50 | S9: 50 | T9: 50 | U9: 50 | V9: 50 | W9: 50 | X9: 50 | Y9: 50 | Z9: 50 | AA9: 50 | AB9: 50 | AC9: 50 | AD9: 50 | AE9: 50 | AF9: 50 | AG9: 50 | AH9: 50 | AI9: 50 | AJ9: 50 | AK9: 50 | AL9: 50 | AM9: 50 | AN9: 50 | AO9: 50 | AP9: 50 | AQ9: 50 | AR9: 50 | AS9: 50 | AT9: 50 | AU9: 50 | AV9: 50 | AW9: 50 | AX9: 50 | AY9: 50 | AZ9: 50 | BA9: 50 | BB9: 50 | BC9: 50 | BD9: 50 | BE9: 50 | BF9: 50 | BG9: 50 | BH9: 50
D10: tuščia seka | E10: 62 | F10: 62 | G10: 62 | H10: 62 | I10: 62 | J10: 62 | K10: 62 | L10: 62 | M10: 62 | N10: 62 | O10: 62 | P10: 62 | Q10: 62 | R10: 62 | S10: 62 | T10: 62 | U10: 62 | V10: 62 | W10: 62 | X10: 62 | Y10: 62 | Z10: 62 | AA10: 62 | AB10: 62 | AC10: 62 | AD10: 62 | AE10: 62 | AF10: 62 | AG10: 62 | AH10: 62 | AI10: 62 | AJ10: 62 | AK10: 62 | AL10: 62 | AM10: 62 | AN10: 62 | AO10: 62 | AP10: 62 | AQ10: 62 | AR10: 62 | AS10: 62 | AT10: 62 | AU10: 62 | AV10: 62 | AW10: 62 | AX10: 62 | AY10: 62 | AZ10: 62 | BA10: 62 | BB10: 62 | BC10: 56 | BD10: 56 | BE10: 56 | BF10: 56 | BG10: 56 | BH10: 56
E11: 50 | F11: 50 | G11: 50 | H11: 50 | I11: 50 | J11: 50 | K11: 50 | L11: 50 | M11: 50 | N11: 50 | O11: 50 | P11: 50 | Q11: 50 | R11: 50 | S11: 50 | T11: 50 | U11: 50 | V11: 50 | W11: 50 | X11: 50 | Y11: 50 | Z11: 50 | AA11: 50 | AB11: 50 | AC11: 50 | AD11: 50 | AE11: 50 | AF11: 50 | AG11: 50 | AH11: 50 | AI11: 50 | AJ11: 50 | AK11: 50 | AL11: 50 | AM11: 50 | AN11: 50 | AO11: 50 | AP11: 50 | AQ11: 50 | AR11: 50 | AS11: 50 | AT11: 50 | AU11: 50 | AV11: 50 | AW11: 50 | AX11: 50 | AY11: 50 | AZ11: 50 | BA11: 50 | BB11: 50 | BC11: 50 | BD11: 50 | BE11: 50 | BF11: 50 | BG11: 50 | BH11: 50
E12: 2021 | F12: 2022 | I12: 2022 | Q12: 2023 | AC12: 2024 | AO12: 2025 | BA12: 2026
E13: 12 | F13: 1 | G13: 2 | H13: 3 | I13: 5 | J13: 6 | K13: 7 | L13: 8 | M13: 9 | N13: 10 | O13: 11 | P13: 12 | Q13: 1 | R13: 2 | S13: 3 | T13: 4 | U13: 5 | V13: 6 | W13: 7 | X13: 8 | Y13: 9 | Z13: 10 | AA13: 11 | AB13: 12 | AC13: 1 | AD13: 2 | AE13: 3 | AF13: 4 | AG13: 5 | AH13: 6 | AI13: 7 | AJ13: 8 | AK13: 9 | AL13: 10 | AM13: 11 | AN13: 12 | AO13: 1 | AP13: 2 | AQ13: 3 | AR13: 4 | AS13: 5 | AT13: 6 | AU13: 7 | AV13: 8 | AW13: 9 | AX13: 10 | AY13: 11 | AZ13: 12 | BA13: 1 | BB13: 2 | BC13: 3 | BD13: 4 | BE13: 5 | BF13: 6 | BG13: 7 | BH13: 8
D14: Euro zona | E14: 53.1 | F14: 51.1 | G14: 55.5 | H14: 55.6 | I14: 56.1 | J14: 53 | K14: 51.2 | L14: 49.8 | M14: 48.8 | N14: 48.6 | O14: 48.5 | P14: 49.8 | Q14: 50.8 | R14: 52.7 | S14: 55 | T14: 56.2 | U14: 55.1 | V14: 52 | W14: 50.9 | X14: 47.9 | Y14: 48.4 | Z14: 47.8 | AA14: 48.7 | AB14: 48.8 | AC14: 48.4 | AD14: 50.2 | AE14: 51.5 | AF14: 53.3 | AG14: 53.2 | AH14: 52.8 | AI14: 51.9 | AJ14: 52.9 | AK14: 51.4 | AL14: 51.6 | AM14: 49.5 | AN14: 51.6 | AO14: 51.3 | AP14: 50.6 | AQ14: 51 | AR14: 50.1 | AS14: 49.7 | AT14: 50.5 | AU14: 51 | AV14: 50.5 | AW14: 51.3 | AX14: 53 | AY14: 53.6 | AZ14: 52.4 | BA14: 51.6 | BB14: 51.9 | BC14: 50.2 | BD14: 47.6 | BE14: 47.7 | BF14: 50 | BG14: 52 | BH14: 52
D15: Vokietija | E15: 48.7 | F15: 52.2 | G15: 55.8 | H15: 56.1 | I15: 55 | J15: 52.4 | K15: 49.7 | L15: 47.7 | M15: 45 | N15: 46.5 | O15: 46.1 | P15: 49.2 | Q15: 50.7 | R15: 50.9 | S15: 53.9 | T15: 56 | U15: 57.2 | V15: 54.1 | W15: 52.3 | X15: 47.3 | Y15: 50.3 | Z15: 48.2 | AA15: 49.6 | AB15: 49.3 | AC15: 47.7 | AD15: 48.3 | AE15: 50.1 | AF15: 53.2 | AG15: 54.2 | AH15: 53.1 | AI15: 52.5 | AJ15: 51.2 | AK15: 50.6 | AL15: 51.6 | AM15: 49.3 | AN15: 51.2 | AO15: 52.5 | AP15: 51.1 | AQ15: 50.9 | AR15: 49 | AS15: 47.1 | AT15: 49.7 | AU15: 50.6 | AV15: 49.3 | AW15: 51.5 | AX15: 54.6 | AY15: 53.1 | AZ15: 52.7 | BA15: 52.4 | BB15: 53.5 | BC15: 50.9 | BD15: 46.9 | BE15: 48.1 | BF15: 48.6 | BG15: 49.8 | BH15: 49.7
D16: Jungtinės Amerikos Valstijos | E16: 57.6 | F16: 51.2 | G16: 56.5 | H16: 58 | I16: 53.4 | J16: 52.7 | K16: 47.3 | L16: 43.7 | M16: 49.3 | N16: 47.8 | O16: 46.2 | P16: 44.7 | Q16: 46.8 | R16: 50.6 | S16: 52.6 | T16: 53.6 | U16: 54.9 | V16: 54.4 | W16: 52.3 | X16: 51 | Y16: 50.1 | Z16: 50.6 | AA16: 50.8 | AB16: 51.4 | AC16: 52.5 | AD16: 52.3 | AE16: 51.7 | AF16: 51.3 | AG16: 54.8 | AH16: 55.3 | AI16: 55 | AJ16: 55.7 | AK16: 55.2 | AL16: 55 | AM16: 56.1 | AN16: 56.8 | AO16: 52.9 | AP16: 51 | AQ16: 54.4 | AR16: 50.8 | AS16: 53.7 | AT16: 52.9 | AU16: 55.7 | AV16: 54.5 | AW16: 54.2 | AX16: 54.8 | AY16: 54.1 | AZ16: 52.5 | BA16: 52.7 | BB16: 51.7 | BC16: 49.8 | BD16: 51 | BE16: 50.7 | BF16: 51.2 | BG16: 54.6 | BH16: 56.5
D17: Kinija | E17: 53.1 | F17: 51.4 | G17: 50.2 | H17: 42 | I17: 41.4 | J17: 54.5 | K17: 55.5 | L17: 55 | M17: 49.3 | N17: 48.4 | O17: 46.7 | P17: 48 | Q17: 52.9 | R17: 55 | S17: 57.8 | T17: 56.4 | U17: 57.1 | V17: 53.9 | W17: 54.1 | X17: 51.8 | Y17: 50.2 | Z17: 50.4 | AA17: 51.5 | AB17: 52.9 | AC17: 52.7 | AD17: 52.5 | AE17: 52.7 | AF17: 52.5 | AG17: 54 | AH17: 51.2 | AI17: 52.1 | AJ17: 51.6 | AK17: 50.3 | AL17: 52 | AM17: 51.5 | AN17: 52.2 | AO17: 51 | AP17: 51.4 | AQ17: 51.9 | AR17: 50.7 | AS17: 51.1 | AT17: 50.6 | AU17: 52.6 | AV17: 53 | AW17: 52.9 | AX17: 52.6 | AY17: 52.1 | AZ17: 52 | BA17: 52.3 | BB17: 56.7 | BC17: 52.1 | BD17: 50 | BE17: 54.4 | BF17: 54.1 | BG17: 50.4 | BH17: 51.4
D18: linija | E18: 50 | F18: 50 | G18: 50 | H18: 50 | I18: 50 | J18: 50 | K18: 50 | L18: 50 | M18: 50 | N18: 50 | O18: 50 | P18: 50 | Q18: 50 | R18: 50 | S18: 50 | T18: 50 | U18: 50 | V18: 50 | W18: 50 | X18: 50 | Y18: 50 | Z18: 50 | AA18: 50 | AB18: 50 | AC18: 50 | AD18: 50 | AE18: 50 | AF18: 50 | AG18: 50 | AH18: 50 | AI18: 50 | AJ18: 50 | AK18: 50 | AL18: 50 | AM18: 50 | AN18: 50 | AO18: 50 | AP18: 50 | AQ18: 50 | AR18: 50 | AS18: 50 | AT18: 50 | AU18: 50 | AV18: 50 | AW18: 50 | AX18: 50 | AY18: 50 | AZ18: 50 | BA18: 50 | BB18: 50 | BC18: 50 | BD18: 50 | BE18: 50 | BF18: 50 | BG18: 50 | BH18: 50
D19: tuščia seka | E19: 62 | F19: 62 | G19: 62 | H19: 62 | I19: 62 | J19: 62 | K19: 62 | L19: 62 | M19: 62 | N19: 62 | O19: 62 | P19: 62 | Q19: 62 | R19: 62 | S19: 62 | T19: 62 | U19: 62 | V19: 62 | W19: 62 | X19: 62 | Y19: 62 | Z19: 62 | AA19: 62 | AB19: 62 | AC19: 62 | AD19: 62 | AE19: 62 | AF19: 62 | AG19: 62 | AH19: 62 | AI19: 62 | AJ19: 62 | AK19: 62 | AL19: 62 | AM19: 62 | AN19: 62 | AO19: 62 | AP19: 62 | AQ19: 62 | AR19: 62 | AS19: 62 | AT19: 62 | AU19: 62 | AV19: 62 | AW19: 62 | AX19: 62 | AY19: 62 | AZ19: 62 | BA19: 62 | BB19: 62 | BC19: 56 | BD19: 56 | BE19: 56 | BF19: 56 | BG19: 56 | BH19: 56
D20: 50 | E20: 50 | F20: 50 | G20: 50 | H20: 50 | I20: 50 | J20: 50 | K20: 50 | L20: 50 | M20: 50 | N20: 50 | O20: 50 | P20: 50 | Q20: 50 | R20: 50 | S20: 50 | T20: 50 | U20: 50 | V20: 50 | W20: 50 | X20: 50 | Y20: 50 | Z20: 50 | AA20: 50 | AB20: 50 | AC20: 50 | AD20: 50 | AE20: 50 | AF20: 50 | AG20: 50 | AH20: 50 | AI20: 50 | AJ20: 50 | AK20: 50 | AL20: 50 | AM20: 50 | AN20: 50 | AO20: 50 | AP20: 50 | AQ20: 50 | AR20: 50 | AS20: 50 | AT20: 50 | AU20: 50 | AV20: 50 | AW20: 50 | AX20: 50 | AY20: 50 | AZ20: 50 | BA20: 50 | BB20: 50 | BC20: 50 | BD20: 50 | BE20: 50 | BF20: 50 | BG20: 50 | BH20: 50
B26: PMI – Pirkimų vadybininkų indeksas (angl. Purchasing Managers' Index).
B28: Šaltinis – https://www.pmi.spglobal.com

Sheet 5 pav.
A1: ↖ atgal į turinį
B3: 5 pav. NFI projektuoja, kad 2026 m. realusis BVP augs tokiu pačiu tempu, kaip ir 2025 m., o 2027 m. augimas sulėtės iki 2,4 proc. | D3: Metai | E3: Galutinio vartojimo išlaidos | F3: Grynasis eksportas | G3: Investicijos (BPKF) | H3: Atsargų pokyčiai | I3: Realusis BVP
D4: 2023 | E4: -0.075096081 | F4: 1.4806337 | G4: 2.5896912 | H4: -3.2556762 | I4: 0.73955257
D5: 2024 | E5: 1.9994302 | F5: 0.25991134 | G5: -0.42111253 | H5: 1.1918987 | I5: 3.0301277
D6: 2025 | E6: 1.3377705 | F6: -2.7931548 | G6: 1.9411838 | H6: 2.4342143 | I6: 2.9200139
D7: 2026P | E7: 2.1266012 | F7: -1.1548259 | G7: 1.6413939 | H7: 0.29220553 | I7: 2.9053747
D8: 2027P | E8: 0.96286439 | F8: 0.4843497 | G8: 1.27466 | H8: -0.30863505 | I8: 2.413239
D9: 2028P | E9: 1.8071488 | F9: -0.22800788 | G9: 1.4775402 | H9: -0.15496577 | I9: 2.9017153
D10: 2029P | E10: 1.5862115 | F10: -0.038225107 | G10: 1.5148483 | H10: -0.24891805 | I10: 2.8139167
B23: P – prognozė.
B25: Šaltinis – Valstybės duomenų agentūra, Nepriklausoma fiskalinė institucija

Sheet Intarpo 1 pav.
A1: ↖ atgal į turinį
B3: Intarpo 1 pav. 2026 m. balandžio mėn. fiksuotas mažmeninės prekybos šuolis, kurį lėmė prekyba ne maisto prekėmis | D3: Metai | E3: Mėnuo | F3: Mažmeninė prekyba ne maisto prekėmis | G3: Mažmeninė prekyba, išskyrus automobilių degalų prekybą | H3: Maisto, gėrimų ir tabako mažmeninė prekyba
D4: 2019 | E4: 1 | F4: 96.55026 | G4: 97.303657 | H4: 97.992404
E5: 2 | F5: 97.82401 | G5: 98.009609 | H5: 98.209441
E6: 3 | F6: 99.60726 | G6: 97.89195 | H6: 96.147585
E7: 4 | F7: 98.206135 | G7: 105.06912 | H7: 111.44872
E8: 5 | F8: 96.80501 | G8: 98.244926 | H8: 99.620184
E9: 6 | F9: 96.932385 | G9: 98.362585 | H9: 99.837222
E10: 7 | F10: 99.60726 | G10: 99.421512 | H10: 99.294628
E11: 8 | F11: 101.26314 | G11: 99.774488 | H11: 98.426479
E12: 9 | F12: 102.40951 | G12: 100.71576 | H12: 99.077591
E13: 10 | F13: 102.28214 | G13: 100.5981 | H13: 98.969072
E14: 11 | F14: 103.55589 | G14: 101.77468 | H14: 100.16278
E15: 12 | F15: 104.95701 | G15: 102.83361 | H15: 100.81389
D16: 2020 | E16: 1 | F16: 108.01401 | G16: 104.0102 | H16: 100.2713
E17: 2 | F17: 109.41514 | G17: 105.30444 | H17: 101.35648
E18: 3 | F18: 85.341259 | G18: 94.009217 | H18: 102.11612
E19: 4 | F19: 79.609383 | G19: 89.302873 | H19: 98.31796
E20: 5 | F20: 101.77264 | G20: 100.95107 | H20: 100.2713
E21: 6 | F21: 107.24976 | G21: 104.36317 | H21: 101.68204
E22: 7 | F22: 112.34476 | G22: 107.4223 | H22: 102.87575
E23: 8 | F23: 114.63751 | G23: 109.18718 | H23: 103.96093
E24: 9 | F24: 115.52914 | G24: 108.95186 | H24: 102.87575
E25: 10 | F25: 120.62414 | G25: 112.48162 | H25: 104.72056
E26: 11 | F26: 117.94926 | G26: 111.06971 | H26: 104.61205
B27: Pašalinus sezono ir darbo dienų skaičiaus įtaką. | E27: 12 | F27: 105.59389 | G27: 106.01039 | H27: 106.23983
D28: 2021 | E28: 1 | F28: 96.677635 | G28: 103.4219 | H28: 109.82094
B29: Šaltinis – Valstybės duomenų agentūra, Nepriklausomos fiskalinės institucijos skaičiavimai | E29: 2 | F29: 105.84864 | G29: 108.95186 | H29: 111.77428
E30: 3 | F30: 121.38839 | G30: 116.01137 | H30: 111.01465
E31: 4 | F31: 130.81414 | G31: 120.01177 | H31: 110.03798
E32: 5 | F32: 133.74376 | G32: 119.89411 | H32: 106.89094
E33: 6 | F33: 136.54601 | G33: 122.4826 | H33: 109.38687
E34: 7 | F34: 133.23426 | G34: 120.95303 | H34: 109.38687
E35: 8 | F35: 135.14489 | G35: 120.12942 | H35: 106.13131
E36: 9 | F36: 134.38064 | G36: 119.89411 | H36: 106.34835
E37: 10 | F37: 132.59739 | G37: 119.54113 | H37: 107.10798
E38: 11 | F38: 134.76276 | G38: 120.36474 | H38: 106.78242
E39: 12 | F39: 133.48901 | G39: 120.24708 | H39: 107.75909
D40: 2022 | E40: 1 | F40: 131.57839 | G40: 118.24689 | H40: 105.80575
E41: 2 | F41: 133.10689 | G41: 118.71752 | H41: 105.04612
...

Sheet Intarpo 2 pav.
A1: ↖ atgal į turinį
B3: Intarpo 2 pav. 2026 m. balandžio-liepos mėn. reikšmingai išaugo gyventojų vienadieniai indėliai | D3: Metai | E3: Mėnuo | F3: Vienadienių indėlių likutis | G3: Tendencija
D4: 2024 | E4: 1 | F4: 15.2674 | G4: 14.741002
E5: 2 | F5: 15.2843 | G5: 14.946322
E6: 3 | F6: 15.3116 | G6: 15.151642
E7: 4 | F7: 15.4605 | G7: 15.356963
E8: 5 | F8: 15.5704 | G8: 15.562283
E9: 6 | F9: 15.7571 | G9: 15.767604
E10: 7 | F10: 15.8345 | G10: 15.972924
E11: 8 | F11: 16.0156 | G11: 16.178244
E12: 9 | F12: 15.9856 | G12: 16.383565
E13: 10 | F13: 16.3806 | G13: 16.588885
E14: 11 | F14: 16.4812 | G14: 16.794205
E15: 12 | F15: 17.6009 | G15: 16.999526
D16: 2025 | E16: 1 | F16: 16.8943 | G16: 17.204846
E17: 2 | F17: 17.1477 | G17: 17.410167
E18: 3 | F18: 17.3204 | G18: 17.615487
E19: 4 | F19: 17.563 | G19: 17.820807
E20: 5 | F20: 17.849 | G20: 18.026128
E21: 6 | F21: 18.2254 | G21: 18.231448
E22: 7 | F22: 18.4182 | G22: 18.436769
E23: 8 | F23: 18.4891 | G23: 18.642089
E24: 9 | F24: 18.645 | G24: 18.847409
B25: Šaltinis – Lietuvos bankas, Nepriklausomos fiskalinės institucijos skaičiavimai | E25: 10 | F25: 19.0337 | G25: 19.05273
E26: 11 | F26: 19.1023 | G26: 19.25805
E27: 12 | F27: 20.4374 | G27: 19.463371
D28: 2026 | E28: 1 | F28: 19.7522 | G28: 19.668691
E29: 2 | F29: 20.1356 | G29: 19.874011
E30: 3 | F30: 20.1115 | G30: 20.079332
E31: 4 | F31: 22.3007 | G31: 20.284652
E32: 5 | F32: 22.0181 | G32: 20.489973
E33: 6 | F33: 22.1 | G33: 20.695293
E34: 7 | F34: 22.4775 | G34: 20.900613

Sheet Intarpo 3 pav.
A1: ↖ atgal į turinį
B3: Intarpo 3 pav. Lyginant su daugiamečiu vidurkiu II ketv. labiausiai kainos Lietuvoje išaugo transporto, būsto ir komunalinių paslaugų bei alkoholio kategorijose | E3: 2005–2025 m. | F3: 2026 m. II ketv.
E4: 4 | F4: 5.1
D5: Maistas ir nealkoh. gėrimai | E5: 5.3 | F5: 0.5
D6: Alkoholiniai gėrimai, tabakas | E6: 5.7 | F6: 7.7
D7: Apranga ir avalynė | E7: -0.9 | F7: 0.2
D8: Būstas, vanduo, elektra, dujos ir kt. | E8: 6.1 | F8: 8.9
D9: Būsto apstatymas ir įranga | E9: 1.9 | F9: 1.4
D10: Sveikata | E10: 5.3 | F10: 2.9
D11: Transportas | E11: 3.5 | F11: 12.8
D12: Informacija ir ryšiai | E12: -1.9 | F12: 1.1
D13: Poilsis, sportas ir kultūra | E13: 4 | F13: 5.6
D14: Švietimo paslaugos | E14: 4.5 | F14: 4.5
D15: Restoranai ir apgyvendinimas | E15: 5.9 | F15: 6.2
D16: Draudimas ir finansinės paslaugos | E16: 4.5 | F16: 5.1
D17: Asmens priežiūra, kt. prekės ir pasl. | E17: 3.9 | F17: 4.4
B28: Šaltinis – Valstybės duomenų agentūra, Nepriklausomos fiskalinės institucijos skaičiavimai

Sheet Intarpo 4 pav.
A1: ↖ atgal į turinį
B3: Intarpo 4 pav. Nuo 2025 m. būsto sandorių skaičius auga lėtesniu tempu | D3: Metai | E3: Mėnuo | F3: Būsto sandoriai | G3: Tendencija
D4: 2020 | E4: 1 | F4: 17.970205
E5: 2 | F5: 19.506393
E6: 3 | F6: -27.106705
E7: 4 | F7: -32.392576
E8: 5 | F8: -35.47929
E9: 6 | F9: -19.716886
E10: 7 | F10: 4.5753225
E11: 8 | F11: -8.0638015
E12: 9 | F12: 11.067096
E13: 10 | F13: 15.532646
E14: 11 | F14: -5.6077016
E15: 12 | F15: 13.141994
D16: 2021 | E16: 1 | F16: -8.1557485
E17: 2 | F17: -11.171933
E18: 3 | F18: 61.202577
E19: 4 | F19: 87.927792
E20: 5 | F20: 99.046222
E21: 6 | F21: 57.052897
E22: 7 | F22: 20.781941
E23: 8 | F23: 6.3855422
E24: 9 | F24: 4.4137316
E25: 10 | F25: -2.7959548
B26: Šaltinis – Registrų centras, Nepriklausomos fiskalinės institucijos skaičiavimai | E26: 11 | F26: 6.1958185
E27: 12 | F27: 15.598576
D28: 2022 | E28: 1 | F28: -0.057290175
E29: 2 | F29: 4.5938375
E30: 3 | F30: -3.8188277
E31: 4 | F31: -19.051431 | G31: -14.346458
E32: 5 | F32: -26.870623 | G32: -14.346458
E33: 6 | F33: -12.790698 | G33: -14.346458
E34: 7 | F34: -19.402697 | G34: -14.346458
E35: 8 | F35: -10.169875 | G35: -14.346458
E36: 9 | F36: -11.293766 | G36: -14.346458
E37: 10 | F37: -14.177887 | G37: -14.346458
E38: 11 | F38: -15.558223 | G38: -14.346458
E39: 12 | F39: -27.853705 | G39: -14.346458
D40: 2023 | E40: 1 | F40: -22.212668 | G40: -14.346458
E41: 2 | F41: -20.915908 | G41: -14.346458
...

Sheet 6 pav.
A1: ↖ atgal į turinį
B3: 6 pav. Po susitraukimo I ketv., II ketv. prekių eksportas atsigavo – jo vertę (to meto kainomis) labiausiai didino mineralinių produktų eksportas ir reeksportas | D3: Metai | E3: Ketvirčiai | F3: Eksportas | G3: Lietuviškos kilmės eksportas* | H3: Reeksportas* | I3: Mineraliniai produktai
D4: 2021 | E4: I | F4: 5.6524017 | G4: 7.6034668 | H4: -0.69978196 | I4: -1.2512831
E5: II | F5: 34.622022 | G5: 18.344455 | H5: 10.190824 | I5: 6.0867426
E6: III | F6: 18.22096 | G6: 9.5162117 | H6: 2.8627026 | I6: 5.8420461
E7: IV | F7: 24.37439 | G7: 10.675015 | H7: 4.6788787 | I7: 9.0204965
D8: 2022 | E8: I | F8: 32.45728 | G8: 14.102281 | H8: 5.5854784 | I8: 12.769521
E9: II | F9: 24.806637 | G9: 13.974317 | H9: 1.867299 | I9: 8.9650205
E10: III | F10: 39.426229 | G10: 11.440789 | H10: 10.267997 | I10: 17.717443
E11: IV | F11: 19.000141 | G11: 1.588269 | H11: 9.5650861 | I11: 7.8467863
D12: 2023 | E12: I | F12: 4.1769845 | G12: -2.6147885 | H12: 7.9453038 | I12: -1.1535308
E13: II | F13: -2.7955729 | G13: -6.8808073 | H13: 3.701011 | I13: 0.38422346
E14: III | F14: -21.206543 | G14: -7.3987022 | H14: -5.7917278 | I14: -8.0161133
E15: IV | F15: -17.491871 | G15: -3.8017707 | H15: -9.2796347 | I15: -4.4104658
D16: 2024 | E16: I | F16: -11.854495 | G16: -1.1822873 | H16: -10.219798 | I16: -0.45240917
E17: II | F17: -7.4671934 | G17: -0.3043102 | H17: -7.6770198 | I17: 0.51413653
E18: III | F18: -2.2092584 | G18: 5.154681 | H18: -5.5264067 | I18: -1.8375327
E19: IV | F19: -8.2491433 | G19: 2.8440158 | H19: -5.9687017 | I19: -5.1244574
D20: 2025 | E20: I | F20: 2.7430548 | G20: 4.8895165 | H20: -3.3040034 | I20: 1.1575416
E21: II | F21: -1.4055992 | G21: 4.5496345 | H21: -3.0365455 | I21: -2.9186881
E22: III | F22: -2.7442967 | G22: -0.30323738 | H22: -1.3184947 | I22: -1.1225646
E23: IV | F23: 2.6184164 | G23: 1.3453227 | H23: -0.1041458 | I23: 1.3772395
D24: 2026 | E24: I | F24: -1.4378594 | G24: -1.1175115 | H24: 0.72947118 | I24: -1.0498191
B25: * išskyrus mineralinius produktus | E25: II | F25: 12.81031 | G25: 0.85109675 | H25: 2.8123847 | I25: 9.1468285
B27: Šaltinis – Valstybės duomenų agentūra, Nepriklausomos fiskalinės institucijos skaičiavimai

Sheet 7 pav.
A1: ↖ atgal į turinį
B3: 7 pav. Nuo 2026 m. gegužės mėn. energijos komponentė lemia beveik pusę kainų lygio augimo tempo | E3: 2025 | Q3: 2026
E4: 1 | F4: 2 | G4: 3 | H4: 4 | I4: 5 | J4: 6 | K4: 7 | L4: 8 | M4: 9 | N4: 10 | O4: 11 | P4: 12 | Q4: 1 | R4: 2 | S4: 3 | T4: 4 | U4: 5 | V4: 6 | W4: 7
D5: SVKI | E5: 3.395024 | F5: 3.1637037 | G5: 3.6666022 | H5: 3.6143102 | I5: 3.0092788 | J5: 3.1874703 | K5: 3.441708 | L5: 3.6386563 | M5: 3.6974278 | N5: 3.7372638 | O5: 3.553712 | P5: 3.2102476 | Q5: 2.7547122 | R5: 3.3223239 | S5: 4.3983688 | T5: 4.8842939 | U5: 5.1048379 | V5: 5.361028 | W5: 5.3697475
D6: Maistas ir nealkoholiniai gėrimai | E6: 0.51174271 | F6: 0.6203887 | G6: 0.9280464 | H6: 1.0191374 | I6: 0.88820675 | J6: 1.0642787 | K6: 1.213425 | L6: 1.3185738 | M6: 1.0761216 | N6: 1.1180554 | O6: 0.95598738 | P6: 0.89726335 | Q6: 0.99983701 | R6: 0.92653352 | S6: 0.57555976 | T6: 0.23366257 | U6: 0.063693933 | V6: 0.037432675 | W6: -0.087683225
D7: Alkoholiniai gėrimai, tabakas ir narkotikai | E7: 0.47572598 | F7: 0.58781676 | G7: 0.60237547 | H7: 0.56724516 | I7: 0.54745563 | J7: 0.5239011 | K7: 0.50417174 | L7: 0.56607745 | M7: 0.56992865 | N7: 0.57386242 | O7: 0.53071109 | P7: 0.54211126 | Q7: 0.50194242 | R7: 0.52563092 | S7: 0.56516107 | T7: 0.54400068 | U7: 0.55856062 | V7: 0.55866695 | W7: 0.5465667
D8: Neenergetinės pramonės prekės | E8: 0.32562718 | F8: 0.15535604 | G8: 0.23610339 | H8: 0.16102957 | I8: 0.041472218 | J8: 0.10267907 | K8: 0.24157424 | L8: 0.15246698 | M8: 0.2384674 | N8: 0.16393729 | O8: 0.24303655 | P8: 0.30053348 | Q8: -0.14737271 | R8: 0.089611045 | S8: -0.04055656 | T8: 0.076073382 | U8: 0.16870428 | V8: 0.3135386 | W8: 0.33497031
D9: Energija | E9: 0.46271542 | F9: 0.19887209 | G9: 0.33010009 | H9: 0.22410421 | I9: -0.090230191 | J9: -0.081007185 | K9: -0.16326246 | L9: -0.099567931 | M9: 0.19549682 | N9: 0.20078781 | O9: 0.18761626 | P9: -0.12330266 | Q9: -0.24450652 | R9: 0.046182795 | S9: 1.4820925 | T9: 2.1148383 | U9: 2.4541764 | V9: 2.3966313 | W9: 2.5938818
D10: Paslaugos | E10: 1.6192127 | F10: 1.6012701 | G10: 1.5699769 | H10: 1.6427938 | I10: 1.6223744 | J10: 1.5776186 | K10: 1.6457995 | L10: 1.701106 | M10: 1.6174133 | N10: 1.6806209 | O10: 1.6363608 | P10: 1.5936421 | Q10: 1.644812 | R10: 1.7343657 | S10: 1.816112 | T10: 1.915719 | U10: 1.8597027 | V10: 2.0547585 | W10: 1.9820119
B22: Šaltinis – Valstybės duomenų agentūra, Nepriklausomos fiskalinės institucijos skaičiavimai

Sheet 1 lentelė
A1: ↖ atgal į turinį
B3: 1 lentelė. 2026 m. rugsėjo mėn. ERS lyginant su 2025 m. rugsėjo mėn. ERS, buvo peržiūrėti makroekonominiai rodikliai, kurie svarbūs prognozuojant pajamas
B5: Makroekonominiai rodikliai | C5: 2025 | H5: 2026P | M5: 2027P | R5: 2028P | Y5: ▲
B6: Pokytis, proc. | Y6: ▼
B7: Darbo užmokesčio fondas | C7: ='2 Priedas 1 lentelė. priedas'!D24 -> 9.5625698 | D7: ( | E7: 8.6 | F7: ) | G7: =IF(C7>E7,$Y$5,IF(C7<E7,$Y$6,"")) -> ▲ | H7: ='2 Priedas 1 lentelė. priedas'!E24 -> 9.4176052 | I7: ( | J7: 7.5 | K7: ) | L7: =IF(H7>J7,$Y$5,IF(H7<J7,$Y$6,"")) -> ▲ | M7: ='2 Priedas 1 lentelė. priedas'!F24 -> 7.0297506 | N7: ( | O7: 5.7 | P7: ) | Q7: =IF(M7>O7,$Y$5,IF(M7<O7,$Y$6,"")) -> ▲ | R7: ='2 Priedas 1 lentelė. priedas'!G24 -> 6.3863909 | S7: ( | T7: 5.8 | U7: ) | V7: =IF(R7>T7,$Y$5,IF(R7<T7,$Y$6,"")) -> ▲
B8: BVP to meto kainomis | C8: ='2 Priedas 1 lentelė. priedas'!D12 -> 6.6609617 | D8: ( | E8: 6.4 | F8: ) | G8: =IF(C8>E8,$Y$5,IF(C8<E8,$Y$6,"")) -> ▲ | H8: ='2 Priedas 1 lentelė. priedas'!E12 -> 8.501722 | I8: ( | J8: 6.7 | K8: ) | L8: =IF(H8>J8,$Y$5,IF(H8<J8,$Y$6,"")) -> ▲ | M8: ='2 Priedas 1 lentelė. priedas'!F12 -> 5.5914879 | N8: ( | O8: 5 | P8: ) | Q8: =IF(M8>O8,$Y$5,IF(M8<O8,$Y$6,"")) -> ▲ | R8: ='2 Priedas 1 lentelė. priedas'!G12 -> 5.786302 | S8: ( | T8: 5.4 | U8: ) | V8: =IF(R8>T8,$Y$5,IF(R8<T8,$Y$6,"")) -> ▲
B9: Galutinio vartojimo išlaidos to meto kainomis | C9: ='2 Priedas 1 lentelė. priedas'!D13 -> 6.6899466 | D9: ( | E9: 7.3 | F9: ) | G9: =IF(C9>E9,$Y$5,IF(C9<E9,$Y$6,"")) -> ▼ | H9: ='2 Priedas 1 lentelė. priedas'!E13 -> 9.4024339 | I9: ( | J9: 7.2 | K9: ) | L9: =IF(H9>J9,$Y$5,IF(H9<J9,$Y$6,"")) -> ▲ | M9: ='2 Priedas 1 lentelė. priedas'!F13 -> 5.5178372 | N9: ( | O9: 4.6 | P9: ) | Q9: =IF(M9>O9,$Y$5,IF(M9<O9,$Y$6,"")) -> ▲ | R9: ='2 Priedas 1 lentelė. priedas'!G13 -> 5.4695331 | S9: ( | T9: 5.4 | U9: ) | V9: =IF(R9>T9,$Y$5,IF(R9<T9,$Y$6,"")) -> ▲
B10: Mlrd. Eur
B11: Darbo užmokesčio fondas | C11: ='2 Priedas 1 lentelė. priedas'!D25 -> 34.107393 | D11: ( | E11: 33.8226 | F11: ) | G11: =IF(C11>E11,$Y$5,IF(C11<E11,$Y$6,"")) -> ▲ | H11: ='2 Priedas 1 lentelė. priedas'!E25 -> 37.319493 | I11: ( | J11: 36.3826 | K11: ) | L11: =IF(H11>J11,$Y$5,IF(H11<J11,$Y$6,"")) -> ▲ | M11: ='2 Priedas 1 lentelė. priedas'!F25 -> 39.94296 | N11: ( | O11: 38.4599 | P11: ) | Q11: =IF(M11>O11,$Y$5,IF(M11<O11,$Y$6,"")) -> ▲ | R11: ='2 Priedas 1 lentelė. priedas'!G25 -> 42.493874 | S11: ( | T11: 40.6761 | U11: ) | V11: =IF(R11>T11,$Y$5,IF(R11<T11,$Y$6,"")) -> ▲
B12: BVP to meto kainomis | C12: ='2 Priedas 1 lentelė. priedas'!D15 -> 84.258 | D12: ( | E12: 83.4649 | F12: ) | G12: =IF(C12>E12,$Y$5,IF(C12<E12,$Y$6,"")) -> ▲ | H12: ='2 Priedas 1 lentelė. priedas'!E15 -> 91.421381 | I12: ( | J12: 89.0726 | K12: ) | L12: =IF(H12>J12,$Y$5,IF(H12<J12,$Y$6,"")) -> ▲ | M12: ='2 Priedas 1 lentelė. priedas'!F15 -> 96.533196 | N12: ( | O12: 93.5666 | P12: ) | Q12: =IF(M12>O12,$Y$5,IF(M12<O12,$Y$6,"")) -> ▲ | R12: ='2 Priedas 1 lentelė. priedas'!G15 -> 102.1189 | S12: ( | T12: 98.6242 | U12: ) | V12: =IF(R12>T12,$Y$5,IF(R12<T12,$Y$6,"")) -> ▲
B13: Galutinio vartojimo išlaidos to meto kainomis | C13: ='2 Priedas 1 lentelė. priedas'!D16 -> 62.2666 | D13: ( | E13: 62.62 | F13: ) | G13: =IF(C13>E13,$Y$5,IF(C13<E13,$Y$6,"")) -> ▼ | H13: ='2 Priedas 1 lentelė. priedas'!E16 -> 68.121176 | I13: ( | J13: 67.13 | K13: ) | L13: =IF(H13>J13,$Y$5,IF(H13<J13,$Y$6,"")) -> ▲ | M13: ='2 Priedas 1 lentelė. priedas'!F16 -> 71.879991 | N13: ( | O13: 70.23 | P13: ) | Q13: =IF(M13>O13,$Y$5,IF(M13<O13,$Y$6,"")) -> ▲ | R13: ='2 Priedas 1 lentelė. priedas'!G16 -> 75.811491 | S13: ( | T13: 73.99 | U13: ) | V13: =IF(R13>T13,$Y$5,IF(R13<T13,$Y$6,"")) -> ▲
B15: Skliausteliuose pateikti makroekonominiai rodikliai pagal 2025-09-11 ERS.
B16: P – prognozė.
B17: Šaltinis – Finansų ministerija, Nepriklausomos fiskalinės institucijos skaičiavimai

Sheet 1 Priedas 1 lentelė.
A1: ↖ atgal į turinį
B3: 1 Priedas 1 lentelė. NFI makroekonominės prognozės 2026–2029 m.
B5: Rodiklis | C5: 2025 | D5: 2026P | I5: 2027P | N5: 2028P | S5: 2029P | Z5: ▲
B6: BVP palyginamosiomis kainomis | Z6: ▼
B7: BVP, mln. Eur | C7: ='1 Priedo 1 lentelės priedas'!D6 -> 62071.8 | D7: ='1 Priedo 1 lentelės priedas'!E6 -> 63875.2 | I7: ='1 Priedo 1 lentelės priedas'!F6 -> 65416.6 | N7: ='1 Priedo 1 lentelės priedas'!G6 -> 67314.8 | S7: ='1 Priedo 1 lentelės priedas'!H6 -> 69209
B8: BVP pokytis, proc. | C8: ='1 Priedo 1 lentelės priedas'!D7 -> 2.9 | D8: ='1 Priedo 1 lentelės priedas'!E7 -> 2.9 | E8: ( | F8: ='1 Priedo 1 lentelės priedas'!P5 -> 3.3 | G8: ) | H8: =IF(D8>F8,$Z$5,IF(D8<F8,$Z$6,"")) -> ▼ | I8: ='1 Priedo 1 lentelės priedas'!F7 -> 2.4 | J8: ( | K8: ='1 Priedo 1 lentelės priedas'!Q5 -> 2.3 | L8: ) | M8: =IF(I8>K8,$Z$5,IF(I8<K8,$Z$6,"")) -> ▲ | N8: ='1 Priedo 1 lentelės priedas'!G7 -> 2.9 | O8: ( | P8: ='1 Priedo 1 lentelės priedas'!R5 -> 3.1 | Q8: ) | R8: =IF(N8>P8,$Z$5,IF(N8<P8,$Z$6,"")) -> ▼ | S8: ='1 Priedo 1 lentelės priedas'!H7 -> 2.8 | T8: ( | U8: ='1 Priedo 1 lentelės priedas'!S5 -> 3 | V8: ) | W8: =IF(S8>U8,$Z$5,IF(S8<U8,$Z$6,"")) -> ▼
B9: BVP palyginamosiomis kainomis komponenčių pokyčiai, proc.
B10: Namų ūkių vartojimo išlaidos | C10: ='1 Priedo 1 lentelės priedas'!D9 -> 2.1 | D10: ='1 Priedo 1 lentelės priedas'!E9 -> 3.9 | E10: ( | F10: ='1 Priedo 1 lentelės priedas'!P12 -> 4.9 | G10: ) | H10: =IF(D10>F10,$Z$5,IF(D10<F10,$Z$6,"")) -> ▼ | I10: ='1 Priedo 1 lentelės priedas'!F9 -> 1.8 | J10: ( | K10: ='1 Priedo 1 lentelės priedas'!Q12 -> 1.4 | L10: ) | M10: =IF(I10>K10,$Z$5,IF(I10<K10,$Z$6,"")) -> ▲ | N10: ='1 Priedo 1 lentelės priedas'!G9 -> 3.4 | O10: ( | P10: ='1 Priedo 1 lentelės priedas'!R12 -> 3.6 | Q10: ) | R10: =IF(N10>P10,$Z$5,IF(N10<P10,$Z$6,"")) -> ▼ | S10: ='1 Priedo 1 lentelės priedas'!H9 -> 3 | T10: ( | U10: ='1 Priedo 1 lentelės priedas'!S12 -> 3.4 | V10: ) | W10: =IF(S10>U10,$Z$5,IF(S10<U10,$Z$6,"")) -> ▼
B11: Valdžios sektoriaus vartojimo išlaidos | C11: ='1 Priedo 1 lentelės priedas'!D10 -> 1 | D11: ='1 Priedo 1 lentelės priedas'!E10 -> 0.4 | E11: ( | F11: ='1 Priedo 1 lentelės priedas'!P13 -> 0.4 | G11: ) | H11: =IF(D11>F11,$Z$5,IF(D11<F11,$Z$6,"")) | I11: ='1 Priedo 1 lentelės priedas'!F10 -> 0.1 | J11: ( | K11: ='1 Priedo 1 lentelės priedas'!Q13 -> 0.1 | L11: ) | M11: =IF(I11>K11,$Z$5,IF(I11<K11,$Z$6,"")) | N11: ='1 Priedo 1 lentelės priedas'!G10 -> 0.1 | O11: ( | P11: ='1 Priedo 1 lentelės priedas'!R13 -> 0.1 | Q11: ) | R11: =IF(N11>P11,$Z$5,IF(N11<P11,$Z$6,"")) | S11: ='1 Priedo 1 lentelės priedas'!H10 -> 0.1 | T11: ( | U11: ='1 Priedo 1 lentelės priedas'!S13 -> 0.1 | V11: ) | W11: =IF(S11>U11,$Z$5,IF(S11<U11,$Z$6,""))
B12: Bendrojo pagrindinio kapitalo formavimas | C12: ='1 Priedo 1 lentelės priedas'!D11 -> 8 | D12: ='1 Priedo 1 lentelės priedas'!E11 -> 6.5 | E12: ( | F12: ='1 Priedo 1 lentelės priedas'!P14 -> 6.7 | G12: ) | H12: =IF(D12>F12,$Z$5,IF(D12<F12,$Z$6,"")) -> ▼ | I12: ='1 Priedo 1 lentelės priedas'!F11 -> 4.9 | J12: ( | K12: ='1 Priedo 1 lentelės priedas'!Q14 -> 4.2 | L12: ) | M12: =IF(I12>K12,$Z$5,IF(I12<K12,$Z$6,"")) -> ▲ | N12: ='1 Priedo 1 lentelės priedas'!G11 -> 5.5 | O12: ( | P12: ='1 Priedo 1 lentelės priedas'!R14 -> 5.5 | Q12: ) | R12: =IF(N12>P12,$Z$5,IF(N12<P12,$Z$6,"")) | S12: ='1 Priedo 1 lentelės priedas'!H11 -> 5.5 | T12: ( | U12: ='1 Priedo 1 lentelės priedas'!S14 -> 5.5 | V12: ) | W12: =IF(S12>U12,$Z$5,IF(S12<U12,$Z$6,""))
B13: Prekių ir paslaugų eksportas | C13: ='1 Priedo 1 lentelės priedas'!D12 -> 5.3 | D13: ='1 Priedo 1 lentelės priedas'!E12 -> 4.3 | E13: ( | F13: ='1 Priedo 1 lentelės priedas'!P15 -> 2.4 | G13: ) | H13: =IF(D13>F13,$Z$5,IF(D13<F13,$Z$6,"")) -> ▲ | I13: ='1 Priedo 1 lentelės priedas'!F12 -> 3.7 | J13: ( | K13: ='1 Priedo 1 lentelės priedas'!Q15 -> 3.9 | L13: ) | M13: =IF(I13>K13,$Z$5,IF(I13<K13,$Z$6,"")) -> ▼ | N13: ='1 Priedo 1 lentelės priedas'!G12 -> 3.7 | O13: ( | P13: ='1 Priedo 1 lentelės priedas'!R15 -> 4 | Q13: ) | R13: =IF(N13>P13,$Z$5,IF(N13<P13,$Z$6,"")) -> ▼ | S13: ='1 Priedo 1 lentelės priedas'!H12 -> 3.7 | T13: ( | U13: ='1 Priedo 1 lentelės priedas'!S15 -> 4 | V13: ) | W13: =IF(S13>U13,$Z$5,IF(S13<U13,$Z$6,"")) -> ▼
B14: Prekių ir paslaugų importas | C14: ='1 Priedo 1 lentelės priedas'!D13 -> 9.3 | D14: ='1 Priedo 1 lentelės priedas'!E13 -> 5.8 | E14: ( | F14: ='1 Priedo 1 lentelės priedas'!P16 -> 3.5 | G14: ) | H14: =IF(D14>F14,$Z$5,IF(D14<F14,$Z$6,"")) -> ▲ | I14: ='1 Priedo 1 lentelės priedas'!F13 -> 3.2 | J14: ( | K14: ='1 Priedo 1 lentelės priedas'!Q16 -> 3.1 | L14: ) | M14: =IF(I14>K14,$Z$5,IF(I14<K14,$Z$6,"")) -> ▲ | N14: ='1 Priedo 1 lentelės priedas'!G13 -> 4.1 | O14: ( | P14: ='1 Priedo 1 lentelės priedas'!R16 -> 4.1 | Q14: ) | R14: =IF(N14>P14,$Z$5,IF(N14<P14,$Z$6,"")) | S14: ='1 Priedo 1 lentelės priedas'!H13 -> 3.8 | T14: ( | U14: ='1 Priedo 1 lentelės priedas'!S16 -> 4.1 | V14: ) | W14: =IF(S14>U14,$Z$5,IF(S14<U14,$Z$6,"")) -> ▼
B15: BVP ir galutinio vartojimo išlaidos to meto kainomis
B16: BVP, mln. Eur | C16: ='1 Priedo 1 lentelės priedas'!D15 -> 84258 | D16: ='1 Priedo 1 lentelės priedas'!E15 -> 91211.6 | E16: 91211.6 | F16: 91211.6 | G16: 91211.6 | H16: 91211.6 | I16: ='1 Priedo 1 lentelės priedas'!F15 -> 97014.4 | J16: 97014.4 | K16: 97014.4 | L16: 97014.4 | M16: 97014.4 | N16: ='1 Priedo 1 lentelės priedas'!G15 -> 102315.5 | O16: 102315.5 | P16: 102315.5 | Q16: 102315.5 | R16: 102315.5 | S16: ='1 Priedo 1 lentelės priedas'!H15 -> 107799.8 | T16: 107799.8 | U16: 107799.8 | V16: 107799.8 | W16: 107799.8
B17: BVP pokytis, proc. | C17: ='1 Priedo 1 lentelės priedas'!D16 -> 6.7 | D17: ='1 Priedo 1 lentelės priedas'!E16 -> 8.3 | E17: ( | F17: ='1 Priedo 1 lentelės priedas'!P7 -> 6.4 | G17: ) | H17: =IF(D17>F17,$Z$5,IF(D17<F17,$Z$6,"")) -> ▲ | I17: ='1 Priedo 1 lentelės priedas'!F16 -> 6.4 | J17: ( | K17: ='1 Priedo 1 lentelės priedas'!Q7 -> 5.5 | L17: ) | M17: =IF(I17>K17,$Z$5,IF(I17<K17,$Z$6,"")) -> ▲ | N17: ='1 Priedo 1 lentelės priedas'!G16 -> 5.5 | O17: ( | P17: ='1 Priedo 1 lentelės priedas'!R7 -> 5.7 | Q17: ) | R17: =IF(N17>P17,$Z$5,IF(N17<P17,$Z$6,"")) -> ▼ | S17: ='1 Priedo 1 lentelės priedas'!H16 -> 5.4 | T17: ( | U17: ='1 Priedo 1 lentelės priedas'!S7 -> 5.6 | V17: ) | W17: =IF(S17>U17,$Z$5,IF(S17<U17,$Z$6,"")) -> ▼
B18: Galutinio vartojimo išlaidos, mln. Eur | C18: ='1 Priedo 1 lentelės priedas'!D17 -> 62266.7 | D18: ='1 Priedo 1 lentelės priedas'!E17 -> 68050.6 | E18: 68050.6 | F18: 68050.6 | G18: 68050.6 | H18: 68050.6 | I18: ='1 Priedo 1 lentelės priedas'!F17 -> 71880.2 | J18: 71880.2 | K18: 71880.2 | L18: 71880.2 | M18: 71880.2 | N18: ='1 Priedo 1 lentelės priedas'!G17 -> 76048.8 | O18: 76048.8 | P18: 76048.8 | Q18: 76048.8 | R18: 76048.8 | S18: ='1 Priedo 1 lentelės priedas'!H17 -> 79955.5 | T18: 79955.5 | U18: 79955.5 | V18: 79955.5 | W18: 79955.5
B19: Galutinio vartojimo išlaidų pokytis, proc. | C19: ='1 Priedo 1 lentelės priedas'!D18 -> 6.7 | D19: ='1 Priedo 1 lentelės priedas'!E18 -> 9.3 | E19: 9.3 | F19: 9.3 | G19: 9.3 | H19: 9.3 | I19: ='1 Priedo 1 lentelės priedas'!F18 -> 5.6 | J19: 5.6 | K19: 5.6 | L19: 5.6 | M19: 5.6 | N19: ='1 Priedo 1 lentelės priedas'!G18 -> 5.8 | O19: 5.8 | P19: 5.8 | Q19: 5.8 | R19: 5.8 | S19: ='1 Priedo 1 lentelės priedas'!H18 -> 5.1
B20: Kainų rodiklių pokyčiai, proc.
B21: BVP defliatorius | C21: ='1 Priedo 1 lentelės priedas'!D21 -> 3.6 | D21: ='1 Priedo 1 lentelės priedas'!E21 -> 5.2 | E21: ( | F21: ='1 Priedo 1 lentelės priedas'!P19 -> 3 | G21: ) | H21: =IF(D21>F21,$Z$5,IF(D21<F21,$Z$6,"")) -> ▲ | I21: ='1 Priedo 1 lentelės priedas'!F21 -> 3.9 | J21: ( | K21: ='1 Priedo 1 lentelės priedas'!Q19 -> 3.2 | L21: ) | M21: =IF(I21>K21,$Z$5,IF(I21<K21,$Z$6,"")) -> ▲ | N21: ='1 Priedo 1 lentelės priedas'!G21 -> 2.5 | O21: ( | P21: ='1 Priedo 1 lentelės priedas'!R19 -> 2.5 | Q21: ) | R21: =IF(N21>P21,$Z$5,IF(N21<P21,$Z$6,"")) | S21: ='1 Priedo 1 lentelės priedas'!H21 -> 2.5 | T21: ( | U21: ='1 Priedo 1 lentelės priedas'!S19 -> 2.5 | V21: ) | W21: =IF(S21>U21,$Z$5,IF(S21<U21,$Z$6,""))
B22: Namų ūkių vartojimo išlaidų defliatorius | C22: ='1 Priedo 1 lentelės priedas'!D22 -> 3.5 | D22: ='1 Priedo 1 lentelės priedas'!E22 -> 5 | E22: ( | F22: ='1 Priedo 1 lentelės priedas'!P20 -> 3.9 | G22: ) | H22: =IF(D22>F22,$Z$5,IF(D22<F22,$Z$6,"")) -> ▲ | I22: ='1 Priedo 1 lentelės priedas'!F22 -> 3.7 | J22: ( | K22: ='1 Priedo 1 lentelės priedas'!Q20 -> 2.8 | L22: ) | M22: =IF(I22>K22,$Z$5,IF(I22<K22,$Z$6,"")) -> ▲ | N22: ='1 Priedo 1 lentelės priedas'!G22 -> 2.3 | O22: ( | P22: ='1 Priedo 1 lentelės priedas'!R20 -> 2.4 | Q22: ) | R22: =IF(N22>P22,$Z$5,IF(N22<P22,$Z$6,"")) -> ▼ | S22: ='1 Priedo 1 lentelės priedas'!H22 -> 2.3 | T22: ( | U22: ='1 Priedo 1 lentelės priedas'!S20 -> 2.4 | V22: ) | W22: =IF(S22>U22,$Z$5,IF(S22<U22,$Z$6,"")) -> ▼
B23: Eksporto (prekių ir paslaugų) defliatorius | C23: ='1 Priedo 1 lentelės priedas'!D23 -> 0 | D23: ='1 Priedo 1 lentelės priedas'!E23 -> 5.7 | E23: ( | F23: ='1 Priedo 1 lentelės priedas'!P23 -> 2.5 | G23: ) | H23: =IF(D23>F23,$Z$5,IF(D23<F23,$Z$6,"")) -> ▲ | I23: ='1 Priedo 1 lentelės priedas'!F23 -> 0.1 | J23: ( | K23: ='1 Priedo 1 lentelės priedas'!Q23 -> 0.3 | L23: ) | M23: =IF(I23>K23,$Z$5,IF(I23<K23,$Z$6,"")) -> ▼ | N23: ='1 Priedo 1 lentelės priedas'!G23 -> 1.4 | O23: ( | P23: ='1 Priedo 1 lentelės priedas'!R23 -> 1.5 | Q23: ) | R23: =IF(N23>P23,$Z$5,IF(N23<P23,$Z$6,"")) -> ▼ | S23: ='1 Priedo 1 lentelės priedas'!H23 -> 1.4 | T23: ( | U23: ='1 Priedo 1 lentelės priedas'!S23 -> 1.5 | V23: ) | W23: =IF(S23>U23,$Z$5,IF(S23<U23,$Z$6,"")) -> ▼
B24: Importo (prekių ir paslaugų) defliatorius | C24: ='1 Priedo 1 lentelės priedas'!D24 -> -1.5 | D24: ='1 Priedo 1 lentelės priedas'!E24 -> 4.6 | E24: ( | F24: ='1 Priedo 1 lentelės priedas'!P24 -> 3.2 | G24: ) | H24: =IF(D24>F24,$Z$5,IF(D24<F24,$Z$6,"")) -> ▲ | I24: ='1 Priedo 1 lentelės priedas'!F24 -> -1 | J24: ( | K24: ='1 Priedo 1 lentelės priedas'!Q24 -> -0.8 | L24: ) | M24: =IF(I24>K24,$Z$5,IF(I24<K24,$Z$6,"")) -> ▼ | N24: ='1 Priedo 1 lentelės priedas'!G24 -> 1.4 | O24: ( | P24: ='1 Priedo 1 lentelės priedas'!R24 -> 1.5 | Q24: ) | R24: =IF(N24>P24,$Z$5,IF(N24<P24,$Z$6,"")) -> ▼ | S24: ='1 Priedo 1 lentelės priedas'!H24 -> 1.4 | T24: ( | U24: ='1 Priedo 1 lentelės priedas'!S24 -> 1.5 | V24: ) | W24: =IF(S24>U24,$Z$5,IF(S24<U24,$Z$6,"")) -> ▼
B25: Suderintas vartotojų kainų indeksas (vidutinis metinis) | C25: ='1 Priedo 1 lentelės priedas'!D25 -> 3.4 | D25: ='1 Priedo 1 lentelės priedas'!E25 -> 5 | E25: ( | F25: ='1 Priedo 1 lentelės priedas'!P25 -> 3.9 | G25: ) | H25: =IF(D25>F25,$Z$5,IF(D25<F25,$Z$6,"")) -> ▲ | I25: ='1 Priedo 1 lentelės priedas'!F25 -> 3.7 | J25: ( | K25: ='1 Priedo 1 lentelės priedas'!Q25 -> 2.8 | L25: ) | M25: =IF(I25>K25,$Z$5,IF(I25<K25,$Z$6,"")) -> ▲ | N25: ='1 Priedo 1 lentelės priedas'!G25 -> 2.3 | O25: ( | P25: ='1 Priedo 1 lentelės priedas'!R25 -> 2.4 | Q25: ) | R25: =IF(N25>P25,$Z$5,IF(N25<P25,$Z$6,"")) -> ▼ | S25: ='1 Priedo 1 lentelės priedas'!H25 -> 2.3 | T25: ( | U25: ='1 Priedo 1 lentelės priedas'!S25 -> 2.4 | V25: ) | W25: =IF(S25>U25,$Z$5,IF(S25<U25,$Z$6,"")) -> ▼
B26: Darbo rinkos rodikliai
B27: Užimtų gyventojų skaičius, tūkst. asmenų | C27: ='1 Priedo 1 lentelės priedas'!D28 -> 1462.8 | D27: ='1 Priedo 1 lentelės priedas'!E28 -> 1468.7 | I27: ='1 Priedo 1 lentelės priedas'!F28 -> 1467.2 | N27: ='1 Priedo 1 lentelės priedas'!G28 -> 1464.2 | S27: ='1 Priedo 1 lentelės priedas'!H28 -> 1461.3
B28: Užimtų gyventojų skaičiaus pokytis, proc. | C28: ='1 Priedo 1 lentelės priedas'!D29 -> -0.1 | D28: ='1 Priedo 1 lentelės priedas'!E29 -> 0.4 | E28: ( | F28: ='1 Priedo 1 lentelės priedas'!P29 -> 0 | G28: ) | H28: =IF(D28>F28,$Z$5,IF(D28<F28,$Z$6,"")) -> ▲ | I28: ='1 Priedo 1 lentelės priedas'!F29 -> -0.1 | J28: ( | K28: ='1 Priedo 1 lentelės priedas'!Q29 -> 0 | L28: ) | M28: =IF(I28>K28,$Z$5,IF(I28<K28,$Z$6,"")) -> ▼ | N28: ='1 Priedo 1 lentelės priedas'!G29 -> -0.2 | O28: ( | P28: ='1 Priedo 1 lentelės priedas'!R29 -> -0.2 | Q28: ) | R28: =IF(N28>P28,$Z$5,IF(N28<P28,$Z$6,"")) | S28: ='1 Priedo 1 lentelės priedas'!H29 -> -0.2 | T28: ( | U28: ='1 Priedo 1 lentelės priedas'!S29 -> -0.2 | V28: ) | W28: =IF(S28>U28,$Z$5,IF(S28<U28,$Z$6,""))
B29: Nedarbo lygis, proc. | C29: ='1 Priedo 1 lentelės priedas'!D30 -> 6.9 | D29: ='1 Priedo 1 lentelės priedas'!E30 -> 6.7 | E29: ( | F29: ='1 Priedo 1 lentelės priedas'!P30 -> 6.9 | G29: ) | H29: =IF(D29>F29,$Z$5,IF(D29<F29,$Z$6,"")) -> ▼ | I29: ='1 Priedo 1 lentelės priedas'!F30 -> 6.7 | J29: ( | K29: ='1 Priedo 1 lentelės priedas'!Q30 -> 6.8 | L29: ) | M29: =IF(I29>K29,$Z$5,IF(I29<K29,$Z$6,"")) -> ▼ | N29: ='1 Priedo 1 lentelės priedas'!G30 -> 6.6 | O29: ( | P29: ='1 Priedo 1 lentelės priedas'!R30 -> 6.7 | Q29: ) | R29: =IF(N29>P29,$Z$5,IF(N29<P29,$Z$6,"")) -> ▼ | S29: ='1 Priedo 1 lentelės priedas'!H30 -> 6.5 | T29: ( | U29: ='1 Priedo 1 lentelės priedas'!S30 -> 6.6 | V29: ) | W29: =IF(S29>U29,$Z$5,IF(S29<U29,$Z$6,"")) -> ▼
B30: Vidutinis mėnesinis bruto darbo užmokestis, Eur | C30: ='1 Priedo 1 lentelės priedas'!D31 -> 2411.4 | D30: ='1 Priedo 1 lentelės priedas'!E31 -> 2628.2 | I30: ='1 Priedo 1 lentelės priedas'!F31 -> 2806.7 | N30: ='1 Priedo 1 lentelės priedas'!G31 -> 2986 | S30: ='1 Priedo 1 lentelės priedas'!H31 -> 3164.2
B31: Vidutinio mėnesinio bruto darbo užmokesčio pokytis, proc. | C31: ='1 Priedo 1 lentelės priedas'!D32 -> 8.5 | D31: ='1 Priedo 1 lentelės priedas'!E32 -> 9 | E31: ( | F31: ='1 Priedo 1 lentelės priedas'!P32 -> 7.9 | G31: ) | H31: =IF(D31>F31,$Z$5,IF(D31<F31,$Z$6,"")) -> ▲ | I31: ='1 Priedo 1 lentelės priedas'!F32 -> 6.8 | J31: ( | K31: ='1 Priedo 1 lentelės priedas'!Q32 -> 7 | L31: ) | M31: =IF(I31>K31,$Z$5,IF(I31<K31,$Z$6,"")) -> ▼ | N31: ='1 Priedo 1 lentelės priedas'!G32 -> 6.4 | O31: ( | P31: ='1 Priedo 1 lentelės priedas'!R32 -> 6.4 | Q31: ) | R31: =IF(N31>P31,$Z$5,IF(N31<P31,$Z$6,"")) | S31: ='1 Priedo 1 lentelės priedas'!H32 -> 6 | T31: ( | U31: ='1 Priedo 1 lentelės priedas'!S32 -> 6 | V31: ) | W31: =IF(S31>U31,$Z$5,IF(S31<U31,$Z$6,""))
B32: Darbo užmokesčio fondas, mln. Eur | C32: ='1 Priedo 1 lentelės priedas'!D33 -> 34107.4 | D32: ='1 Priedo 1 lentelės priedas'!E33 -> 37321.8 | I32: ='1 Priedo 1 lentelės priedas'!F33 -> 39817.4 | N32: ='1 Priedo 1 lentelės priedas'!G33 -> 42275.8 | S32: ='1 Priedo 1 lentelės priedas'!H33 -> 44710.5
B33: Darbo užmokesčio fondo pokytis, proc. | C33: ='1 Priedo 1 lentelės priedas'!D34 -> 9.6 | D33: ='1 Priedo 1 lentelės priedas'!E34 -> 9.4 | E33: ( | F33: ='1 Priedo 1 lentelės priedas'!P34 -> 7.9 | G33: ) | H33: =IF(D33>F33,$Z$5,IF(D33<F33,$Z$6,"")) -> ▲ | I33: ='1 Priedo 1 lentelės priedas'!F34 -> 6.7 | J33: ( | K33: ='1 Priedo 1 lentelės priedas'!Q34 -> 7 | L33: ) | M33: =IF(I33>K33,$Z$5,IF(I33<K33,$Z$6,"")) -> ▼ | N33: ='1 Priedo 1 lentelės priedas'!G34 -> 6.2 | O33: ( | P33: ='1 Priedo 1 lentelės priedas'!R34 -> 6.2 | Q33: ) | R33: =IF(N33>P33,$Z$5,IF(N33<P33,$Z$6,"")) | S33: ='1 Priedo 1 lentelės priedas'!H34 -> 5.8 | T33: ( | U33: ='1 Priedo 1 lentelės priedas'!S34 -> 5.8 | V33: ) | W33: =IF(S33>U33,$Z$5,IF(S33<U33,$Z$6,""))
B34: Darbo našumo pokytis, proc. | C34: ='1 Priedo 1 lentelės priedas'!D35 -> 3 | D34: ='1 Priedo 1 lentelės priedas'!E35 -> 2.5 | E34: ( | F34: ='1 Priedo 1 lentelės priedas'!P9 -> 3.3 | G34: ) | H34: =IF(D34>F34,$Z$5,IF(D34<F34,$Z$6,"")) -> ▼ | I34: ='1 Priedo 1 lentelės priedas'!F35 -> 2.5 | J34: ( | K34: ='1 Priedo 1 lentelės priedas'!Q9 -> 2.3 | L34: ) | M34: =IF(I34>K34,$Z$5,IF(I34<K34,$Z$6,"")) -> ▲ | N34: ='1 Priedo 1 lentelės priedas'!G35 -> 3.1 | O34: ( | P34: ='1 Priedo 1 lentelės priedas'!R9 -> 3.3 | Q34: ) | R34: =IF(N34>P34,$Z$5,IF(N34<P34,$Z$6,"")) -> ▼ | S34: ='1 Priedo 1 lentelės priedas'!H35 -> 3 | T34: ( | U34: ='1 Priedo 1 lentelės priedas'!S9 -> 3.2 | V34: ) | W34: =IF(S34>U34,$Z$5,IF(S34<U34,$Z$6,"")) -> ▼
B35: Potencialaus BVP pokytis ir BVP atotrūkis nuo potencialo
B36: Potencialaus BVP pokytis, proc. | C36: ='1 Priedo 1 lentelės priedas'!D45 -> 3.086521 | D36: ='1 Priedo 1 lentelės priedas'!E45 -> 2.9731607 | E36: ( | F36: ='1 Priedo 1 lentelės priedas'!P37 -> 3 | G36: ) | I36: ='1 Priedo 1 lentelės priedas'!F45 -> 2.8410865 | J36: ( | K36: ='1 Priedo 1 lentelės priedas'!Q37 -> 2.9 | L36: ) | M36: =IF(I36>K36,$Z$5,IF(I36<K36,$Z$6,"")) -> ▼ | N36: ='1 Priedo 1 lentelės priedas'!G45 -> 2.6966075 | O36: ( | P36: ='1 Priedo 1 lentelės priedas'!R37 -> 2.7 | Q36: ) | S36: ='1 Priedo 1 lentelės priedas'!H45 -> 2.539052 | T36: ( | U36: ='1 Priedo 1 lentelės priedas'!S37 -> 2.6 | V36: ) | W36: =IF(S36>U36,$Z$5,IF(S36<U36,$Z$6,"")) -> ▼
B37: BVP atotrūkis (proc., palyginti su potencialiuoju BVP) | C37: ='1 Priedo 1 lentelės priedas'!D46 -> 0.17389974 | D37: ='1 Priedo 1 lentelės priedas'!E46 -> 0.018312867 | E37: ( | F37: ='1 Priedo 1 lentelės priedas'!P38 -> 0 | G37: ) | I37: ='1 Priedo 1 lentelės priedas'!F46 -> -0.67802934 | J37: ( | K37: ='1 Priedo 1 lentelės priedas'!Q38 -> –0,5 | L37: ) | M37: =IF(I37>K37,$Z$5,IF(I37<K37,$Z$6,"")) -> ▼ | N37: ='1 Priedo 1 lentelės priedas'!G46 -> -0.82943253 | O37: ( | P37: ='1 Priedo 1 lentelės priedas'!R38 -> –0,5 | Q37: ) | R37: =IF(N37>P37,$Z$5,IF(N37<P37,$Z$6,"")) -> ▼ | S37: ='1 Priedo 1 lentelės priedas'!H46 -> -0.88231947 | T37: ( | U37: ='1 Priedo 1 lentelės priedas'!S38 -> –0,5 | V37: ) | W37: =IF(S37>U37,$Z$5,IF(S37<U37,$Z$6,"")) -> ▼
B39: Skliausteliuose pateiktos 2026 m. kovo mėn. paskelbtos NFI projekcijos.
B40: Prognozės parengtos atsižvelgiant į informaciją ir duomenis, paskelbtus iki 2026-09-01.
B41: Pagal ERS vertinimo ir tvirtinimo aprašą violetiniame fone pažymėti NFI tvirtinami rodikliai.
B42: P – prognozė.
B43: Šaltinis – Valstybės duomenų agentūra, Nepriklausoma fiskalinė institucija

Sheet 1 Priedo 1 lentelės priedas
C1: naujausios projekcijos
N2: anstesnės projekcijos
C4: Rodiklio pavadinimas | D4: 2025 | E4: 2026 | F4: 2027 | G4: 2028 | H4: 2029 | N4: Rodiklis | O4: 2025 | P4: 2026 | Q4: 2027 | R4: 2028 | S4: 2029
C5: Bendrasis vidaus produktas (toliau – BVP) palyginamosiomis kainomis | N5: BVP palyginamosiomis kainomis pokytis, proc. | O5: 2.9 | P5: 3.3 | Q5: 2.3 | R5: 3.1 | S5: 3
C6: 1. BVP, mln. Eur | D6: 62071.8 | E6: 63875.2 | F6: 65416.6 | G6: 67314.8 | H6: 69209 | N6: BVP palyginamosiomis kainomis, mln. EUR | O6: 62034.4 | P6: 64082.6 | Q6: 65534.3 | R6: 67589.2 | S6: 69607.7
C7: 2. BVP pokytis, proc. | D7: 2.9 | E7: 2.9 | F7: 2.4 | G7: 2.9 | H7: 2.8 | N7: BVP to meto kainomis pokytis, proc. | O7: 6.4 | P7: 6.4 | Q7: 5.5 | R7: 5.7 | S7: 5.6
C8: BVP palyginamosiomis kainomis komponentų pokytis, proc. | N8: BVP to meto kainomis, mln. EUR | O8: 84061.2 | P8: 89446.9 | Q8: 94390.7 | R8: 99779.3 | S8: 105336.4
C9: 3. Namų ūkių vartojimo išlaidos | D9: 2.1 | E9: 3.9 | F9: 1.8 | G9: 3.4 | H9: 3 | N9: Darbo našumo pokytis, proc. | O9: 2.9 | P9: 3.3 | Q9: 2.3 | R9: 3.3 | S9: 3.2
C10: 4. Valdžios sektoriaus vartojimo išlaidos | D10: 1 | E10: 0.4 | F10: 0.1 | G10: 0.1 | H10: 0.1
C11: 5. Bendrojo pagrindinio kapitalo formavimas | D11: 8 | E11: 6.5 | F11: 4.9 | G11: 5.5 | H11: 5.5 | N11: BVP palyginamosiomis kainomis komponenčių pokyčiai, proc.
C12: 6. Prekių ir paslaugų eksportas | D12: 5.3 | E12: 4.3 | F12: 3.7 | G12: 3.7 | H12: 3.7 | N12: Namų ūkių vartojimo išlaidos | O12: 2 | P12: 4.9 | Q12: 1.4 | R12: 3.6 | S12: 3.4
C13: 7. Prekių ir paslaugų importas | D13: 9.3 | E13: 5.8 | F13: 3.2 | G13: 4.1 | H13: 3.8 | N13: Valdžios sektoriaus vartojimo išlaidos | O13: 1.2 | P13: 0.4 | Q13: 0.1 | R13: 0.1 | S13: 0.1
C14: BVP ir galutinio vartojimo išlaidos to meto kainomis | N14: Bendrojo pagrindinio kapitalo formavimas | O14: 7.3 | P14: 6.7 | Q14: 4.2 | R14: 5.5 | S14: 5.5
C15: 8. BVP, mln. Eur | D15: 84258 | E15: 91211.6 | F15: 97014.4 | G15: 102315.5 | H15: 107799.8 | N15: Prekių ir paslaugų eksportas | O15: 4.2 | P15: 2.4 | Q15: 3.9 | R15: 4 | S15: 4
C16: 9. BVP pokytis, proc. | D16: 6.7 | E16: 8.3 | F16: 6.4 | G16: 5.5 | H16: 5.4 | N16: Prekių ir paslaugų importas | O16: 8.4 | P16: 3.5 | Q16: 3.1 | R16: 4.1 | S16: 4.1
C17: 10. Galutinio vartojimo išlaidos, mln. Eur | D17: 62266.7 | E17: 68050.6 | F17: 71880.2 | G17: 76048.8 | H17: 79955.5
C18: 11. Galutinio vartojimo išlaidų pokytis, proc. | D18: 6.7 | E18: 9.3 | F18: 5.6 | G18: 5.8 | H18: 5.1 | N18: Kainų rodiklių pokyčiai, proc.
N19: BVP defliatorius | O19: 3.5 | P19: 3 | Q19: 3.2 | R19: 2.5 | S19: 2.5
